BEGIN:VCALENDAR
VERSION:2.0
CALSCALE:GREGORIAN
PRODID:adamgibbons/ics
METHOD:PUBLISH
X-PUBLISHED-TTL:PT1H
BEGIN:VEVENT
UID:18383@offbeat.amsterdam
SUMMARY:CÍRCULO Workshop: Priestessing Drumming and Chanting (Brazilian Can
	domblé Caixa do Divino)
DTSTAMP:20260420T050901Z
DTSTART:20260422T160000Z
URL:https://offbeat.amsterdam/event/circulo-workshop-priestessing-drumming-
	and-chanting-brazilian-candomble-caixa-do-divino-8
LOCATION:Teatro Munganga - Schinkelhavenstraat 27 HS\, 1075 VP Amsterdam
STATUS:CONFIRMED
CATEGORIES:workshop,schinkelbuurt,queer,community,amsterdam-zuid
END:VEVENT
BEGIN:VEVENT
UID:18375@offbeat.amsterdam
SUMMARY:CÍRCULO Workshop: Priestessing Drumming and Chanting (Brazilian Can
	domblé Caixa do Divino)
DTSTAMP:20260420T050901Z
DTSTART:20260423T160000Z
URL:https://offbeat.amsterdam/event/circulo-workshop-priestessing-drumming-
	and-chanting-brazilian-candomble-caixa-do-divino
LOCATION:Teatro Munganga - Schinkelhavenstraat 27 HS\, 1075 VP Amsterdam
STATUS:CONFIRMED
CATEGORIES:workshop,amsterdam-zuid,community,queer,schinkelbuurt
END:VEVENT
BEGIN:VEVENT
UID:18141@offbeat.amsterdam
SUMMARY:Bolo Lobo Frito: Braziliaanse Samba Funk
DTSTAMP:20260420T050901Z
DTSTART:20260424T180000Z
URL:https://offbeat.amsterdam/event/bolo-lobo-frito-braziliaanse-samba-funk
LOCATION:Teatro Munganga - Schinkelhavenstraat 27 HS\, 1075 VP Amsterdam
STATUS:CONFIRMED
CATEGORIES:amsterdam-zuid,funk,jazz,live,schinkelbuurt
END:VEVENT
BEGIN:VEVENT
UID:19721@offbeat.amsterdam
SUMMARY:GRRRimlach Theaterplay 4+ by Teatro Munganga
DTSTAMP:20260420T050901Z
DTSTART:20260425T133000Z
URL:https://offbeat.amsterdam/event/grrrimlach-theaterplay-4-by-teatro-mung
	anga-2
LOCATION:Teatro Munganga - Schinkelhavenstraat 27 HS\, 1075 VP Amsterdam
STATUS:CONFIRMED
CATEGORIES:amsterdam-zuid,theater,stories,schinkelbuurt,performance,music,d
	ance
END:VEVENT
BEGIN:VEVENT
UID:18974@offbeat.amsterdam
SUMMARY:Musical journey across the Atlantic! bij Duo Joana Almeida & Pedro 
	Ivo
DTSTAMP:20260420T050901Z
DTSTART:20260426T090000Z
URL:https://offbeat.amsterdam/event/musical-journey-across-the-atlantic-bij
	-duo-joana-almeida-and-pedro-ivo
LOCATION:Teatro Munganga - Schinkelhavenstraat 27 HS\, 1075 VP Amsterdam
STATUS:CONFIRMED
CATEGORIES:jazz,stories,schinkelbuurt,performance,music,amsterdam-zuid,conc
	ert,games
END:VEVENT
BEGIN:VEVENT
UID:17812@offbeat.amsterdam
SUMMARY:RASA: Fado and Kathak Dance: An Emotional Journey Across Cultures b
	y Casa de Fado & Art Uncurated
DTSTAMP:20260420T050901Z
DTSTART:20260426T140000Z
URL:https://offbeat.amsterdam/event/rasa-fado-and-kathak-dance-an-emotional
	-journey-across-cultures-by-casa-de-fado-and-art-uncurated
LOCATION:Teatro Munganga - Schinkelhavenstraat 27 HS\, 1075 VP Amsterdam
STATUS:CONFIRMED
CATEGORIES:lecture,performance,classes,schinkelbuurt,amsterdam-zuid,soul,st
	orytelling,poetry,community,concert,dance,festivals,jazz,music
END:VEVENT
BEGIN:VEVENT
UID:18379@offbeat.amsterdam
SUMMARY:CÍRCULO Workshop: Priestessing Drumming and Chanting (Brazilian Can
	domblé Caixa do Divino)
DTSTAMP:20260420T050901Z
DTSTART:20260428T160000Z
URL:https://offbeat.amsterdam/event/circulo-workshop-priestessing-drumming-
	and-chanting-brazilian-candomble-caixa-do-divino-4
LOCATION:Teatro Munganga - Schinkelhavenstraat 27 HS\, 1075 VP Amsterdam
STATUS:CONFIRMED
CATEGORIES:community,amsterdam-zuid,workshop,schinkelbuurt,queer
END:VEVENT
BEGIN:VEVENT
UID:18381@offbeat.amsterdam
SUMMARY:CÍRCULO Workshop: Priestessing Drumming and Chanting (Brazilian Can
	domblé Caixa do Divino)
DTSTAMP:20260420T050901Z
DTSTART:20260429T160000Z
URL:https://offbeat.amsterdam/event/circulo-workshop-priestessing-drumming-
	and-chanting-brazilian-candomble-caixa-do-divino-6
LOCATION:Teatro Munganga - Schinkelhavenstraat 27 HS\, 1075 VP Amsterdam
STATUS:CONFIRMED
CATEGORIES:workshop,amsterdam-zuid,community,queer,schinkelbuurt
END:VEVENT
BEGIN:VEVENT
UID:20293@offbeat.amsterdam
SUMMARY:Little Music Explorer by Ada Rave
DTSTAMP:20260420T050901Z
DTSTART:20260503T090000Z
URL:https://offbeat.amsterdam/event/little-music-explorer-by-ada-rave-1
LOCATION:Teatro Munganga - Schinkelhavenstraat 27 HS\, 1075 VP Amsterdam
STATUS:CONFIRMED
CATEGORIES:festivals,music,performance,rave,schinkelbuurt,amsterdam-zuid,co
	mmunity,concert,jazz,improv
END:VEVENT
BEGIN:VEVENT
UID:18377@offbeat.amsterdam
SUMMARY:CÍRCULO Workshop: Priestessing Drumming and Chanting (Brazilian Can
	domblé Caixa do Divino)
DTSTAMP:20260420T050901Z
DTSTART:20260505T160000Z
URL:https://offbeat.amsterdam/event/circulo-workshop-priestessing-drumming-
	and-chanting-brazilian-candomble-caixa-do-divino-2
LOCATION:Teatro Munganga - Schinkelhavenstraat 27 HS\, 1075 VP Amsterdam
STATUS:CONFIRMED
CATEGORIES:community,amsterdam-zuid,workshop,schinkelbuurt,queer
END:VEVENT
BEGIN:VEVENT
UID:20628@offbeat.amsterdam
SUMMARY:I Am The Joker by Fee Aaij 4tet
DTSTAMP:20260420T050901Z
DTSTART:20260507T180000Z
URL:https://offbeat.amsterdam/event/i-am-the-joker-by-fee-aaij-4tet
LOCATION:Teatro Munganga - Schinkelhavenstraat 27 HS\, 1075 VP Amsterdam
STATUS:CONFIRMED
CATEGORIES:schinkelbuurt,punk,piano,orchestra,music,live,jazz,amsterdam-zui
	d,theater
END:VEVENT
BEGIN:VEVENT
UID:20719@offbeat.amsterdam
SUMMARY:Gafieira Social Club by Cabaret Brasil
DTSTAMP:20260420T050901Z
DTSTART:20260508T180000Z
URL:https://offbeat.amsterdam/event/gafieira-social-club-by-cabaret-brasil-
	8
LOCATION:Teatro Munganga - Schinkelhavenstraat 27 HS\, 1075 VP Amsterdam
STATUS:CONFIRMED
CATEGORIES:cabaret,amsterdam-zuid,schinkelbuurt,piano,dance
END:VEVENT
BEGIN:VEVENT
UID:19722@offbeat.amsterdam
SUMMARY:GRRRimlach Theaterplay 4+ by Teatro Munganga
DTSTAMP:20260420T050901Z
DTSTART:20260509T133000Z
URL:https://offbeat.amsterdam/event/grrrimlach-theaterplay-4-by-teatro-mung
	anga-3
LOCATION:Teatro Munganga - Schinkelhavenstraat 27 HS\, 1075 VP Amsterdam
STATUS:CONFIRMED
CATEGORIES:stories,theater,schinkelbuurt,dance,amsterdam-zuid,performance,m
	usic
END:VEVENT
BEGIN:VEVENT
UID:19306@offbeat.amsterdam
SUMMARY:Stephen & Fiora Acrobatics and Music
DTSTAMP:20260420T050901Z
DTSTART:20260510T090000Z
URL:https://offbeat.amsterdam/event/stephen-and-fiora-acrobatics-and-music
LOCATION:Teatro Munganga - Schinkelhavenstraat 27 HS\, 1075 VP Amsterdam
STATUS:CONFIRMED
CATEGORIES:schinkelbuurt,dance,festivals,music,performance,theater,amsterda
	m-zuid
END:VEVENT
BEGIN:VEVENT
UID:18142@offbeat.amsterdam
SUMMARY:Josee Koning presents: 60 Years of Brasil ’66 The music of Sergio M
	endes
DTSTAMP:20260420T050901Z
DTSTART:20260510T140000Z
URL:https://offbeat.amsterdam/event/josee-koning-presents-60-years-of-brasi
	l-66-the-music-of-sergio-mendes
LOCATION:Teatro Munganga - Schinkelhavenstraat 27 HS\, 1075 VP Amsterdam
STATUS:CONFIRMED
CATEGORIES:funk,schinkelbuurt,music,jazz,amsterdam-zuid
END:VEVENT
BEGIN:VEVENT
UID:20814@offbeat.amsterdam
SUMMARY:MasterClass by Guinga
DTSTAMP:20260420T050901Z
DTSTART:20260514T140000Z
URL:https://offbeat.amsterdam/event/masterclass-by-guinga
LOCATION:Teatro Munganga - Schinkelhavenstraat 27 HS\, 1075 VP Amsterdam
STATUS:CONFIRMED
CATEGORIES:amsterdam-zuid,workshop,stories,schinkelbuurt,music
END:VEVENT
BEGIN:VEVENT
UID:20292@offbeat.amsterdam
SUMMARY:Guinga & Debora Dienstmann in concert
DTSTAMP:20260420T050901Z
DTSTART:20260514T180000Z
URL:https://offbeat.amsterdam/event/guinga-and-debora-dienstmann-in-concert
LOCATION:Teatro Munganga - Schinkelhavenstraat 27 HS\, 1075 VP Amsterdam
STATUS:CONFIRMED
CATEGORIES:performance,music,jazz,amsterdam-zuid,concert,stories,schinkelbu
	urt,festivals
END:VEVENT
BEGIN:VEVENT
UID:20381@offbeat.amsterdam
SUMMARY:Potje! 2+ by Jeritza Toney
DTSTAMP:20260420T050901Z
DTSTART:20260516T133000Z
URL:https://offbeat.amsterdam/event/potje-2-by-jeritza-toney
LOCATION:Teatro Munganga - Schinkelhavenstraat 27 HS\, 1075 VP Amsterdam
STATUS:CONFIRMED
CATEGORIES:amsterdam-zuid,music,schinkelbuurt
END:VEVENT
BEGIN:VEVENT
UID:20377@offbeat.amsterdam
SUMMARY:Extraordinary Scenes concert by Antonio Villeroy
DTSTAMP:20260420T050901Z
DTSTART:20260516T180000Z
URL:https://offbeat.amsterdam/event/extraordinary-scenes-concert-by-antonio
	-villeroy
LOCATION:Teatro Munganga - Schinkelhavenstraat 27 HS\, 1075 VP Amsterdam
STATUS:CONFIRMED
CATEGORIES:schinkelbuurt,amsterdam-zuid,concert,music,performance
END:VEVENT
BEGIN:VEVENT
UID:20382@offbeat.amsterdam
SUMMARY:TROUPIRILAMP Family show
DTSTAMP:20260420T050901Z
DTSTART:20260517T090000Z
URL:https://offbeat.amsterdam/event/troupirilamp-family-show
LOCATION:Teatro Munganga - Schinkelhavenstraat 27 HS\, 1075 VP Amsterdam
STATUS:CONFIRMED
CATEGORIES:piano,schinkelbuurt,amsterdam-zuid
END:VEVENT
BEGIN:VEVENT
UID:19051@offbeat.amsterdam
SUMMARY:Tribute to Angela Roro by Viviani Godoy & Mariana Elsas
DTSTAMP:20260420T050901Z
DTSTART:20260522T180000Z
URL:https://offbeat.amsterdam/event/tribute-to-angela-roro-by-viviani-godoy
	-and-mariana-elsas
LOCATION:Teatro Munganga - Schinkelhavenstraat 27 HS\, 1075 VP Amsterdam
STATUS:CONFIRMED
CATEGORIES:performance,storytelling,amsterdam-zuid,live,music,schinkelbuurt
END:VEVENT
BEGIN:VEVENT
UID:19724@offbeat.amsterdam
SUMMARY:GRRRimlach Theaterplay 4+ by Teatro Munganga
DTSTAMP:20260420T050901Z
DTSTART:20260523T133000Z
URL:https://offbeat.amsterdam/event/grrrimlach-theaterplay-4-by-teatro-mung
	anga-5
LOCATION:Teatro Munganga - Schinkelhavenstraat 27 HS\, 1075 VP Amsterdam
STATUS:CONFIRMED
CATEGORIES:theater,amsterdam-zuid,dance,music,performance,schinkelbuurt,sto
	ries
END:VEVENT
BEGIN:VEVENT
UID:20200@offbeat.amsterdam
SUMMARY:Across the Ocean music concert by Zuzanna & Wagner
DTSTAMP:20260420T050901Z
DTSTART:20260524T090000Z
URL:https://offbeat.amsterdam/event/across-the-ocean-music-concert-by-zuzan
	na-and-wagner
LOCATION:Teatro Munganga - Schinkelhavenstraat 27 HS\, 1075 VP Amsterdam
STATUS:CONFIRMED
CATEGORIES:performance,schinkelbuurt,storytelling,music,concert,amsterdam-z
	uid
END:VEVENT
BEGIN:VEVENT
UID:18973@offbeat.amsterdam
SUMMARY:Anna Setton featuring Lucas Santana
DTSTAMP:20260420T050901Z
DTSTART:20260528T180000Z
URL:https://offbeat.amsterdam/event/anna-setton-featuring-lucas-santana
LOCATION:Teatro Munganga - Schinkelhavenstraat 27 HS\, 1075 VP Amsterdam
STATUS:CONFIRMED
CATEGORIES:amsterdam-zuid,jazz,music,schinkelbuurt,concert
END:VEVENT
BEGIN:VEVENT
UID:20720@offbeat.amsterdam
SUMMARY:Muziek uit Noordoost van Brazilië met Elizabeth Fadel Floor Polder 
	Henriketa Melcher en Maripepa Contreras
DTSTAMP:20260420T050901Z
DTSTART:20260530T180000Z
URL:https://offbeat.amsterdam/event/muziek-uit-noordoost-van-brazilie-met-e
	lizabeth-fadel-floor-polder-henriketa-melcher-en-maripepa-contreras
LOCATION:Teatro Munganga - Schinkelhavenstraat 27 HS\, 1075 VP Amsterdam
STATUS:CONFIRMED
CATEGORIES:music,schinkelbuurt,amsterdam-zuid,piano
END:VEVENT
BEGIN:VEVENT
UID:20201@offbeat.amsterdam
SUMMARY:PÁ PUM! by percussionist Alaor Soares
DTSTAMP:20260420T050901Z
DTSTART:20260531T090000Z
URL:https://offbeat.amsterdam/event/pa-pum-by-percussionist-alaor-soares
LOCATION:Teatro Munganga - Schinkelhavenstraat 27 HS\, 1075 VP Amsterdam
STATUS:CONFIRMED
CATEGORIES:workshop,schinkelbuurt,performance,music,improv,amsterdam-zuid
END:VEVENT
BEGIN:VEVENT
UID:20375@offbeat.amsterdam
SUMMARY:Carl Mayotte Quintet jazz concert
DTSTAMP:20260420T050901Z
DTSTART:20260531T140000Z
URL:https://offbeat.amsterdam/event/carl-mayotte-quintet-jazz-concert
LOCATION:Teatro Munganga - Schinkelhavenstraat 27 HS\, 1075 VP Amsterdam
STATUS:CONFIRMED
CATEGORIES:jazz,music,rock,schinkelbuurt,storytelling,amsterdam-zuid,concer
	t
END:VEVENT
BEGIN:VEVENT
UID:18376@offbeat.amsterdam
SUMMARY:CÍRCULO Workshop: Priestessing Drumming and Chanting (Brazilian Can
	domblé Caixa do Divino)
DTSTAMP:20260420T050901Z
DTSTART:20260602T160000Z
URL:https://offbeat.amsterdam/event/circulo-workshop-priestessing-drumming-
	and-chanting-brazilian-candomble-caixa-do-divino-1
LOCATION:Teatro Munganga - Schinkelhavenstraat 27 HS\, 1075 VP Amsterdam
STATUS:CONFIRMED
CATEGORIES:schinkelbuurt,community,amsterdam-zuid,workshop,queer
END:VEVENT
BEGIN:VEVENT
UID:18380@offbeat.amsterdam
SUMMARY:CÍRCULO Workshop: Priestessing Drumming and Chanting (Brazilian Can
	domblé Caixa do Divino)
DTSTAMP:20260420T050901Z
DTSTART:20260603T160000Z
URL:https://offbeat.amsterdam/event/circulo-workshop-priestessing-drumming-
	and-chanting-brazilian-candomble-caixa-do-divino-5
LOCATION:Teatro Munganga - Schinkelhavenstraat 27 HS\, 1075 VP Amsterdam
STATUS:CONFIRMED
CATEGORIES:amsterdam-zuid,community,queer,schinkelbuurt,workshop
END:VEVENT
BEGIN:VEVENT
UID:19263@offbeat.amsterdam
SUMMARY:Círculo Oracle: The Eye of the Night- Public Tarot Reading
DTSTAMP:20260420T050901Z
DTSTART:20260604T170000Z
URL:https://offbeat.amsterdam/event/circulo-oracle-the-eye-of-the-night-pub
	lic-tarot-reading
LOCATION:Teatro Munganga - Schinkelhavenstraat 27 HS\, 1075 VP Amsterdam
STATUS:CONFIRMED
CATEGORIES:stories,opening,community,theater,amsterdam-zuid,schinkelbuurt
END:VEVENT
BEGIN:VEVENT
UID:19680@offbeat.amsterdam
SUMMARY:Composers Soundtracks Festival Concert with Brazilian and Dutch Com
	posers
DTSTAMP:20260420T050901Z
DTSTART:20260605T170000Z
URL:https://offbeat.amsterdam/event/composers-soundtracks-festival-liveconc
	ert-by-brazilian-and-dutch-composers
LOCATION:Teatro Munganga - Schinkelhavenstraat 27 HS\, 1075 VP Amsterdam
STATUS:CONFIRMED
CATEGORIES:workshop,storytelling,schinkelbuurt,live,festivals,film,discussi
	on,opening,concert,music,amsterdam-zuid
END:VEVENT
BEGIN:VEVENT
UID:19681@offbeat.amsterdam
SUMMARY:Composers Soundtracks Festival Concert with CSF String Quintet
DTSTAMP:20260420T050901Z
DTSTART:20260606T170000Z
URL:https://offbeat.amsterdam/event/composers-soundtracks-festival-soundtra
	ck-concert-with-guest-string-quintet
LOCATION:Teatro Munganga - Schinkelhavenstraat 27 HS\, 1075 VP Amsterdam
STATUS:CONFIRMED
CATEGORIES:festivals,music,schinkelbuurt,workshop,amsterdam-zuid,concert,di
	scussion,film
END:VEVENT
BEGIN:VEVENT
UID:20718@offbeat.amsterdam
SUMMARY:Een magisch pianoconcert voor kinderen!
DTSTAMP:20260420T050901Z
DTSTART:20260607T090000Z
URL:https://offbeat.amsterdam/event/een-magisch-pianoconcert-voor-kinderen
LOCATION:Teatro Munganga - Schinkelhavenstraat 27 HS\, 1075 VP Amsterdam
STATUS:CONFIRMED
CATEGORIES:food,concert,dance,talk,schinkelbuurt,piano,music,amsterdam-zuid
END:VEVENT
BEGIN:VEVENT
UID:18378@offbeat.amsterdam
SUMMARY:CÍRCULO Workshop: Priestessing Drumming and Chanting (Brazilian Can
	domblé Caixa do Divino)
DTSTAMP:20260420T050901Z
DTSTART:20260609T160000Z
URL:https://offbeat.amsterdam/event/circulo-workshop-priestessing-drumming-
	and-chanting-brazilian-candomble-caixa-do-divino-3
LOCATION:Teatro Munganga - Schinkelhavenstraat 27 HS\, 1075 VP Amsterdam
STATUS:CONFIRMED
CATEGORIES:schinkelbuurt,queer,community,workshop,amsterdam-zuid
END:VEVENT
BEGIN:VEVENT
UID:19723@offbeat.amsterdam
SUMMARY:GRRRimlach Theaterplay 4+ by Teatro Munganga
DTSTAMP:20260420T050901Z
DTSTART:20260613T133000Z
URL:https://offbeat.amsterdam/event/grrrimlach-theaterplay-4-by-teatro-mung
	anga-4
LOCATION:Teatro Munganga - Schinkelhavenstraat 27 HS\, 1075 VP Amsterdam
STATUS:CONFIRMED
CATEGORIES:amsterdam-zuid,schinkelbuurt,stories,theater,performance,music,d
	ance
END:VEVENT
BEGIN:VEVENT
UID:20378@offbeat.amsterdam
SUMMARY:Hits uit Afrika by Wendy Kimani & The Congo Beach Club
DTSTAMP:20260420T050901Z
DTSTART:20260613T180000Z
URL:https://offbeat.amsterdam/event/hits-uit-afrika-by-wendy-kimani-and-the
	-congo-beach-club
LOCATION:Teatro Munganga - Schinkelhavenstraat 27 HS\, 1075 VP Amsterdam
STATUS:CONFIRMED
CATEGORIES:rap,schinkelbuurt,soul,afro,amsterdam-zuid,music
END:VEVENT
BEGIN:VEVENT
UID:20379@offbeat.amsterdam
SUMMARY:Klein Wonderland
DTSTAMP:20260420T050901Z
DTSTART:20260614T090000Z
URL:https://offbeat.amsterdam/event/klein-wonderland
LOCATION:Teatro Munganga - Schinkelhavenstraat 27 HS\, 1075 VP Amsterdam
STATUS:CONFIRMED
CATEGORIES:stories,performance,music,dance,amsterdam-zuid,schinkelbuurt
END:VEVENT
BEGIN:VEVENT
UID:19305@offbeat.amsterdam
SUMMARY:Círculo Celebration & Concert- Brazilian Candomblé and the Traditio
	n of the Pristesses
DTSTAMP:20260420T050901Z
DTSTART:20260614T150000Z
URL:https://offbeat.amsterdam/event/circulo-celebration-and-concert-brazili
	an-candomble-and-the-tradition-of-the-pristesses
LOCATION:Teatro Munganga - Schinkelhavenstraat 27 HS\, 1075 VP Amsterdam
STATUS:CONFIRMED
CATEGORIES:community,concert,documentary,festivals,live,music,workshop,talk
	,schinkelbuurt,performance,film,amsterdam-zuid
END:VEVENT
BEGIN:VEVENT
UID:20677@offbeat.amsterdam
SUMMARY:Roda de Choro Special Edition by Daniel Montes Elizabeth Fadel Mari
	pepa Contreras Marijn Van Der Linden Luis Mascaro Wagner Vasconcelos
DTSTAMP:20260420T050901Z
DTSTART:20260618T180000Z
URL:https://offbeat.amsterdam/event/roda-de-choro-special-edition-by-daniel
	-montes-elizabeth-fadel-maripepa-contreras-marijn-van-der-linden-luis-masc
	aro-wagner-vasconcelos-1
LOCATION:Teatro Munganga - Schinkelhavenstraat 27 HS\, 1075 VP Amsterdam
STATUS:CONFIRMED
CATEGORIES:piano,amsterdam-zuid,dance,music,schinkelbuurt
END:VEVENT
BEGIN:VEVENT
UID:20374@offbeat.amsterdam
SUMMARY:Cantorias
DTSTAMP:20260420T050901Z
DTSTART:20260619T180000Z
URL:https://offbeat.amsterdam/event/cantorias
LOCATION:Teatro Munganga - Schinkelhavenstraat 27 HS\, 1075 VP Amsterdam
STATUS:CONFIRMED
CATEGORIES:music,schinkelbuurt,amsterdam-zuid
END:VEVENT
BEGIN:VEVENT
UID:20886@offbeat.amsterdam
SUMMARY:Music from Brazil India & more by Duo Cobogó
DTSTAMP:20260420T050901Z
DTSTART:20260620T180000Z
URL:https://offbeat.amsterdam/event/music-from-brazil-india-and-more-by-duo
	-cobogo
LOCATION:Teatro Munganga - Schinkelhavenstraat 27 HS\, 1075 VP Amsterdam
STATUS:CONFIRMED
CATEGORIES:jazz,schinkelbuurt,performance,music,amsterdam-zuid
END:VEVENT
BEGIN:VEVENT
UID:20885@offbeat.amsterdam
SUMMARY:Duo Cobogó music from Brazil India Eastern Mediterranean
DTSTAMP:20260420T050901Z
DTSTART:20260621T090000Z
URL:https://offbeat.amsterdam/event/duo-cobogo-music-from-brazil-india-east
	ern-mediterranean
LOCATION:Teatro Munganga - Schinkelhavenstraat 27 HS\, 1075 VP Amsterdam
STATUS:CONFIRMED
CATEGORIES:jazz,schinkelbuurt,amsterdam-zuid,music
END:VEVENT
BEGIN:VEVENT
UID:20627@offbeat.amsterdam
SUMMARY:Amanecer contigo by Duo Estér y Alain
DTSTAMP:20260420T050901Z
DTSTART:20260625T180000Z
URL:https://offbeat.amsterdam/event/amanecer-contigo-by-duo-ester-y-alain
LOCATION:Teatro Munganga - Schinkelhavenstraat 27 HS\, 1075 VP Amsterdam
STATUS:CONFIRMED
CATEGORIES:poetry,amsterdam-zuid,blues,gospel,rock,schinkelbuurt,music
END:VEVENT
BEGIN:VEVENT
UID:19725@offbeat.amsterdam
SUMMARY:GRRRimlach Theaterplay 4+ by Teatro Munganga
DTSTAMP:20260420T050901Z
DTSTART:20260627T133000Z
URL:https://offbeat.amsterdam/event/grrrimlach-theaterplay-4-by-teatro-mung
	anga-6
LOCATION:Teatro Munganga - Schinkelhavenstraat 27 HS\, 1075 VP Amsterdam
STATUS:CONFIRMED
CATEGORIES:performance,stories,theater,amsterdam-zuid,dance,music,schinkelb
	uurt
END:VEVENT
BEGIN:VEVENT
UID:20675@offbeat.amsterdam
SUMMARY:Afro-Brazilian Jazz & Heritage by Dandara Modesto & Edwin Correia
DTSTAMP:20260420T050901Z
DTSTART:20260627T180000Z
URL:https://offbeat.amsterdam/event/afro-brazilian-jazz-and-heritage-by-dan
	dara-modesto-and-edwin-correia
LOCATION:Teatro Munganga - Schinkelhavenstraat 27 HS\, 1075 VP Amsterdam
STATUS:CONFIRMED
CATEGORIES:afro,amsterdam-zuid,electronics,jam session,jazz,schinkelbuurt
END:VEVENT
BEGIN:VEVENT
UID:20678@offbeat.amsterdam
SUMMARY:Samba Roots
DTSTAMP:20260420T050901Z
DTSTART:20260628T140000Z
URL:https://offbeat.amsterdam/event/samba-roots-1
LOCATION:Teatro Munganga - Schinkelhavenstraat 27 HS\, 1075 VP Amsterdam
STATUS:CONFIRMED
CATEGORIES:amsterdam-zuid,schinkelbuurt
END:VEVENT
BEGIN:VEVENT
UID:20383@offbeat.amsterdam
SUMMARY:Todo Canto Every Voice Every Place by Luiza Ramos & Lucas Carrasco
DTSTAMP:20260420T050901Z
DTSTART:20260702T180000Z
URL:https://offbeat.amsterdam/event/todo-canto-every-voice-every-place-by-l
	uiza-ramos-and-lucas-carrasco
LOCATION:Teatro Munganga - Schinkelhavenstraat 27 HS\, 1075 VP Amsterdam
STATUS:CONFIRMED
CATEGORIES:orchestra,music,jazz,concert,amsterdam-zuid,schinkelbuurt,perfor
	mance
END:VEVENT
BEGIN:VEVENT
UID:20380@offbeat.amsterdam
SUMMARY:Nita Aartsen Trio
DTSTAMP:20260420T050901Z
DTSTART:20260703T180000Z
URL:https://offbeat.amsterdam/event/nita-aartsen-trio
LOCATION:Teatro Munganga - Schinkelhavenstraat 27 HS\, 1075 VP Amsterdam
STATUS:CONFIRMED
CATEGORIES:jazz,schinkelbuurt,piano,music,festivals,concert,amsterdam-zuid,
	afro
END:VEVENT
BEGIN:VEVENT
UID:20453@offbeat.amsterdam
SUMMARY:GRRRimlach Theaterplay 4+ by Teatro Munganga
DTSTAMP:20260420T050901Z
DTSTART:20260704T133000Z
URL:https://offbeat.amsterdam/event/grrrimlach-theaterplay-4-by-teatro-mung
	anga-7
LOCATION:Teatro Munganga - Schinkelhavenstraat 27 HS\, 1075 VP Amsterdam
STATUS:CONFIRMED
CATEGORIES:amsterdam-zuid,theater,stories,schinkelbuurt,performance,music,d
	ance
END:VEVENT
BEGIN:VEVENT
UID:20376@offbeat.amsterdam
SUMMARY:Contemporary instrumental music from Brazil by Santos Latif Gonzále
	z Trio
DTSTAMP:20260420T050901Z
DTSTART:20260704T170000Z
URL:https://offbeat.amsterdam/event/contemporary-instrumental-music-from-br
	azil-by-santos-latif-gonzalez-trio
LOCATION:Teatro Munganga - Schinkelhavenstraat 27 HS\, 1075 VP Amsterdam
STATUS:CONFIRMED
CATEGORIES:performance,schinkelbuurt,amsterdam-zuid,concert,jazz,music
END:VEVENT
BEGIN:VEVENT
UID:20676@offbeat.amsterdam
SUMMARY:Brazilian music by Santos Latif González Trio
DTSTAMP:20260420T050901Z
DTSTART:20260705T090000Z
URL:https://offbeat.amsterdam/event/brazilian-music-by-santos-latif-gonzale
	z-trio
LOCATION:Teatro Munganga - Schinkelhavenstraat 27 HS\, 1075 VP Amsterdam
STATUS:CONFIRMED
CATEGORIES:talk,amsterdam-zuid,music,party,schinkelbuurt
END:VEVENT
BEGIN:VEVENT
UID:20629@offbeat.amsterdam
SUMMARY:In memory of Kees Gelderblom music concert
DTSTAMP:20260420T050901Z
DTSTART:20260913T140000Z
URL:https://offbeat.amsterdam/event/in-memory-of-kees-gelderblom-music-conc
	ert
LOCATION:Teatro Munganga - Schinkelhavenstraat 27 HS\, 1075 VP Amsterdam
STATUS:CONFIRMED
CATEGORIES:stories,amsterdam-zuid,schinkelbuurt,plants,music,concert
END:VEVENT
BEGIN:VEVENT
UID:19192@offbeat.amsterdam
SUMMARY:VIRAMUNDO por Carol Andrade e Alex Maia
DTSTAMP:20260420T050901Z
DTSTART:20260919T180000Z
URL:https://offbeat.amsterdam/event/viramundo-por-carol-andrade-e-alex-maia
LOCATION:Teatro Munganga - Schinkelhavenstraat 27 HS\, 1075 VP Amsterdam
STATUS:CONFIRMED
CATEGORIES:stories,schinkelbuurt,concert,performance,party,music,live,amste
	rdam-zuid,soul
END:VEVENT
END:VCALENDAR
